BEGIN:VCALENDAR
VERSION:2.0
PRODID:-//Kath Andrews Designs - ECPv6.15.20//NONSGML v1.0//EN
CALSCALE:GREGORIAN
METHOD:PUBLISH
X-WR-CALNAME:Kath Andrews Designs
X-ORIGINAL-URL:https://kathandrewsdesigns.com
X-WR-CALDESC:Events for Kath Andrews Designs
REFRESH-INTERVAL;VALUE=DURATION:PT1H
X-Robots-Tag:noindex
X-PUBLISHED-TTL:PT1H
BEGIN:VTIMEZONE
TZID:Europe/London
BEGIN:DAYLIGHT
TZOFFSETFROM:+0000
TZOFFSETTO:+0100
TZNAME:BST
DTSTART:20250330T010000
END:DAYLIGHT
BEGIN:STANDARD
TZOFFSETFROM:+0100
TZOFFSETTO:+0000
TZNAME:GMT
DTSTART:20251026T010000
END:STANDARD
BEGIN:DAYLIGHT
TZOFFSETFROM:+0000
TZOFFSETTO:+0100
TZNAME:BST
DTSTART:20260329T010000
END:DAYLIGHT
BEGIN:STANDARD
TZOFFSETFROM:+0100
TZOFFSETTO:+0000
TZNAME:GMT
DTSTART:20261025T010000
END:STANDARD
BEGIN:DAYLIGHT
TZOFFSETFROM:+0000
TZOFFSETTO:+0100
TZNAME:BST
DTSTART:20270328T010000
END:DAYLIGHT
BEGIN:STANDARD
TZOFFSETFROM:+0100
TZOFFSETTO:+0000
TZNAME:GMT
DTSTART:20271031T010000
END:STANDARD
END:VTIMEZONE
BEGIN:VEVENT
DTSTART;TZID=Europe/London:20260425T100000
DTEND;TZID=Europe/London:20260426T163000
DTSTAMP:20260422T095022
CREATED:20260325T131719Z
LAST-MODIFIED:20260325T132930Z
UID:17138-1777111200-1777221000@kathandrewsdesigns.com
SUMMARY:Wonderwool Wales\, 25th-26th April 2026
DESCRIPTION:We are delighted to be exhibiting at Wonderwool Wales again this year. 2026 is the 20th Anniversary year of Wonderwool Wales and it promises to be a truly special event. You will find us in Hall 3\, stand W16 (our usual spot!). \nWe will have a wide variety of printed patterns with us\, along with their samples as well as knitting kits for some designs as well. \nI am teaching my Introduction to Two-Colour Brioche Knitting workshop both days. These workshops are already sold out! \nThe show is open Saturday 10am-5pm and Sunday 10am-4.30pm. \nTickets are £16\, with weekend tickets at £30. Under-16s are free of charge and carers get half-price entry. \nShare this:\n				Share on X (Opens in new window)\n				X\n			\n				Share on Facebook (Opens in new window)\n				Facebook\n			\n				Share on LinkedIn (Opens in new window)\n				LinkedIn\n			\n				Share on Mastodon (Opens in new window)\n				Mastodon\n			\n				Share on Bluesky (Opens in new window)\n				Bluesky\n			Like this:Like Loading...
URL:https://kathandrewsdesigns.com/events/wonderwool-wales-2026/
LOCATION:Royal Welsh Showground\, Builth Wells\, Powys\, LD2 3SY\, United Kingdom
CATEGORIES:Yarn Shows
ATTACH;FMTTYPE=image/jpeg:https://kathandrewsdesigns.com/wp-content/uploads/2026/03/IMG_9865.jpeg
END:VEVENT
BEGIN:VEVENT
DTSTART;TZID=Europe/London:20260613T100000
DTEND;TZID=Europe/London:20260614T160000
DTSTAMP:20260422T095022
CREATED:20251114T172748Z
LAST-MODIFIED:20251114T172838Z
UID:16442-1781344800-1781452800@kathandrewsdesigns.com
SUMMARY:The Wool Monty\, 13-14th June 2026
DESCRIPTION:I’m very excited to be exhibiting at The Wool Monty for the first time in 2026. It’s a yarn show I’ve heard so many good things about and I can’t wait to be a part of it. \nI’m also going to be teaching there! More details on that soon. \nDay tickets are £11.50\, weekend tickets are £15 and they are available now! \nThe Wool Monty Is A Different Kind Of Yarn Show\nACCESSIBLE.\nINCLUSIVE.\nWELCOMING. \nWe’re committed to hosting a yarn show with a difference\, that everyone can attend and enjoy. We cannot wait to see you there! \nOur Accessibility Commitment\n\nfully accessible venue with step-free access and all activities on one level\n300+ free parking spaces with blue badge parking near the entrance and space for coaches and vans\nspace for mobility scooters and powered chairs\n3.5m (11.5ft) wide aisles as a minimum\nassistance dogs welcome\nquiet room away from the main show area with dim lights and comfy seating\nCarer tickets available\nhigh ceilings to diffuse noise\nseveral accessible toilets\, including a Changing Places bathroom\ndifferent types of seating and lots of it\nhot and cold food options which cater to all diets and preferences\n\n  \nShare this:\n				Share on X (Opens in new window)\n				X\n			\n				Share on Facebook (Opens in new window)\n				Facebook\n			\n				Share on LinkedIn (Opens in new window)\n				LinkedIn\n			\n				Share on Mastodon (Opens in new window)\n				Mastodon\n			\n				Share on Bluesky (Opens in new window)\n				Bluesky\n			Like this:Like Loading...
URL:https://kathandrewsdesigns.com/events/the-wool-monty-13-14th-june-2026/
LOCATION:Magna\, Magna Way\, S60 1FD\, United Kingdom
CATEGORIES:Yarn Shows
ATTACH;FMTTYPE=image/png:https://kathandrewsdesigns.com/wp-content/uploads/2025/10/Vendor-Were-doing.png
END:VEVENT
BEGIN:VEVENT
DTSTART;TZID=Europe/London:20260711T133000
DTEND;TZID=Europe/London:20260711T153000
DTSTAMP:20260422T095022
CREATED:20251204T115824Z
LAST-MODIFIED:20260402T092402Z
UID:16674-1783776600-1783783800@kathandrewsdesigns.com
SUMMARY:Intro to Two-Colour Brioche Knitting at Midlands Wool Festival\, 11th July 2026
DESCRIPTION:Learn this amazing technique to create a wonderfully squishy fabric. We’ll cover the basic two colour brioche stitch\, the terminology\, a brioche  increase and two different decreases. \nI will be teaching the workshop on both days of the festival! \nBook directly with me via contact@kathandrewsdesigns.com. \nVenue: Wolverhampton Racecourse \nDates: 11th July\, 1.30pm-3.30pm \nCost: £30\, including handouts and yarn. \nBring with you: 5mm circular knitting needles (60-80cm long). Needles must be circular for brioche knitting\, though we will be knitting flat\, not in the round. \nSkills required: Cast-on\, cast-off\, knit & purl. \nYou will also need a ticket for wool festival for the day you are attending the workshop (buy a ticket here) \nWorkshop spaces currently available: 4\nShare this:\n				Share on X (Opens in new window)\n				X\n			\n				Share on Facebook (Opens in new window)\n				Facebook\n			\n				Share on LinkedIn (Opens in new window)\n				LinkedIn\n			\n				Share on Mastodon (Opens in new window)\n				Mastodon\n			\n				Share on Bluesky (Opens in new window)\n				Bluesky\n			Like this:Like Loading...
URL:https://kathandrewsdesigns.com/events/intro-to-two-colour-brioche-knitting-at-midlands-wool-festival-11th-july-2026/
LOCATION:Wolverhampton Racecourse\, Wolverhampton\, WV6 0PE
CATEGORIES:Knitting Workshops
ATTACH;FMTTYPE=image/jpeg:https://kathandrewsdesigns.com/wp-content/uploads/2025/02/Intro-to-Two-Colour-Brioche.jpeg
END:VEVENT
BEGIN:VEVENT
DTSTART;TZID=Europe/London:20260712T133000
DTEND;TZID=Europe/London:20260712T153000
DTSTAMP:20260422T095022
CREATED:20251204T120107Z
LAST-MODIFIED:20260325T125620Z
UID:16678-1783863000-1783870200@kathandrewsdesigns.com
SUMMARY:Intro to Two-Colour Brioche Knitting at Midlands Wool Festival\, 12th July 2026
DESCRIPTION:Learn this amazing technique to create a wonderfully squishy fabric. We’ll cover the basic two colour brioche stitch\, the terminology\, a brioche  increase and two different decreases. \nI will be teaching the workshop on both days of the festival! \nBook directly with me via contact@kathandrewsdesigns.com. \nVenue: Wolverhampton Racecourse \nDates: 12th July\, 1.30pm-3.30pm \nCost: £30\, including handouts and yarn. \nBring with you: 5mm circular knitting needles (60-80cm long). Needles must be circular for brioche knitting\, though we will be knitting flat\, not in the round. \nSkills required: Cast-on\, cast-off\, knit & purl. \nYou will also need a ticket for wool festival for the day you are attending the workshop (buy a ticket here) \nWorkshop spaces currently available: 8 \nShare this:\n				Share on X (Opens in new window)\n				X\n			\n				Share on Facebook (Opens in new window)\n				Facebook\n			\n				Share on LinkedIn (Opens in new window)\n				LinkedIn\n			\n				Share on Mastodon (Opens in new window)\n				Mastodon\n			\n				Share on Bluesky (Opens in new window)\n				Bluesky\n			Like this:Like Loading...
URL:https://kathandrewsdesigns.com/events/intro-to-two-colour-brioche-knitting-at-midlands-wool-festival-12th-july-2026/
LOCATION:Wolverhampton Racecourse\, Wolverhampton\, WV6 0PE
CATEGORIES:Knitting Workshops
ATTACH;FMTTYPE=image/jpeg:https://kathandrewsdesigns.com/wp-content/uploads/2025/02/Intro-to-Two-Colour-Brioche.jpeg
END:VEVENT
BEGIN:VEVENT
DTSTART;TZID=Europe/London:20260808T100000
DTEND;TZID=Europe/London:20260809T160000
DTSTAMP:20260422T095022
CREATED:20250121T105656Z
LAST-MODIFIED:20251204T121305Z
UID:12730-1786183200-1786291200@kathandrewsdesigns.com
SUMMARY:North East Wool Show\, 8th-9th Aug 2026
DESCRIPTION:A very warm welcome to NORTH EAST WOOL SHOW – an exciting festival of knitting\, crochet and woolly fibre crafts. \nPlease join us at Newcastle Racecourse (NE3 5HP)\, from 10am to 4pm on 8th and 9th August 2026. \nThere’ll be 90 amazing stalls\, plus a great range of workshops (I’ll be teaching one!)\, all in a fabulous venue. There’ll also be:\n– Two cafes selling a range of hot and cold food and drinks\n– Lots of room to sit and chat (inside and out)\n– Free demonstrations from local guilds\n– A charity magazine stall\n– Loads of free parking and marshals to show you where to go\n… And a fabulous pub just 2 minutes walk from our event! \nSo please come to visit. There’s so much to see\, do and buy. \nTickets will be on sale from mid-April 2026 \nShare this:\n				Share on X (Opens in new window)\n				X\n			\n				Share on Facebook (Opens in new window)\n				Facebook\n			\n				Share on LinkedIn (Opens in new window)\n				LinkedIn\n			\n				Share on Mastodon (Opens in new window)\n				Mastodon\n			\n				Share on Bluesky (Opens in new window)\n				Bluesky\n			Like this:Like Loading...
URL:https://kathandrewsdesigns.com/events/north-east-wool-show-8th-9th-aug-2026/
LOCATION:Newcastle Racecourse\, Newcastle\, NE3 5HP
CATEGORIES:Yarn Shows
ATTACH;FMTTYPE=image/jpeg:https://kathandrewsdesigns.com/wp-content/uploads/2025/01/IMG_0692.jpeg
END:VEVENT
BEGIN:VEVENT
DTSTART;TZID=Europe/London:20260809T134500
DTEND;TZID=Europe/London:20260809T154500
DTSTAMP:20260422T095022
CREATED:20251204T120530Z
LAST-MODIFIED:20260325T125727Z
UID:16684-1786283100-1786290300@kathandrewsdesigns.com
SUMMARY:Intro to Two-Colour Brioche Knitting at North East Wool Show\, 9th Aug 2026
DESCRIPTION:Learn this amazing technique to create a wonderfully squishy fabric. We’ll cover the basic two colour brioche stitch\, the terminology\, a brioche  increase and two different decreases. \nBook directly with me via contact@kathandrewsdesigns.com. \nVenue: Newcastle Racecourse \nDates: Sunday 9th August\, 1.45pm-3.45pm \nCost: £30\, including handouts and yarn. \nBring with you: 5mm circular knitting needles (60-80cm long). Needles must be circular for brioche knitting\, though we will be knitting flat\, not in the round. \nSkills required: Cast-on\, cast-off\, knit & purl. \nYou will also need a ticket for wool festival for the day you are attending the workshop (buy a ticket here) \nWorkshop spaces currently available: 5 \n\nShare this:\n				Share on X (Opens in new window)\n				X\n			\n				Share on Facebook (Opens in new window)\n				Facebook\n			\n				Share on LinkedIn (Opens in new window)\n				LinkedIn\n			\n				Share on Mastodon (Opens in new window)\n				Mastodon\n			\n				Share on Bluesky (Opens in new window)\n				Bluesky\n			Like this:Like Loading...
URL:https://kathandrewsdesigns.com/events/intro-to-two-colour-brioche-knitting-at-north-east-wool-show-9th-aug-2026/
LOCATION:Newcastle Racecourse\, Newcastle\, NE3 5HP
CATEGORIES:Knitting Workshops
ATTACH;FMTTYPE=image/jpeg:https://kathandrewsdesigns.com/wp-content/uploads/2025/02/Intro-to-Two-Colour-Brioche.jpeg
END:VEVENT
END:VCALENDAR